0.00571400000
0.0
0.0000
-0.00571400000
-80.861245000
43.7802450
