0.1971522453
0.0000000000
0.0000000000
-0.1971983499
-179.9014238773
89.9014008251
