0.0093166480
0.0000000000
0.0000000000
-0.0093166480
-167.3151267194
28.0917629182
